Workbook
Name items: OFFSET(PriceList!$A$1,0,0,MATCH(REPT("z",255),PriceList!$A:$A),1)
Name valuevx: 42.314159

Sheet SalesInvoice
A1: [Company Name] | H1: INVOICE
A2: [Street Address] | G2: DATE | H2: 45758 | J2: © 2011-2025 Vertex42 LLC
A3: [City, ST ZIP] | G3: INVOICE # | H3: [123456] | J3: Sales Invoice Template
A4: Phone: [000-000-0000] | G4: CUSTOMER ID | H4: [123]
A5: Fax: [000-000-0000]
A6: Website:
A9: BILL TO: | D9: SHIP TO:
A10: [Name] | D10: [Name]
A11: [Company Name] | D11: [Company Name]
A12: [Street Address] | D12: [Street Address]
A13: [City, ST ZIP] | D13: [City, ST ZIP] | J13: HOW TO SEND AN INVOICE
A14: [Phone] | D14: [Phone] | J14: 1) Save or Print the worksheet as a PDF
J15: 2) Email the PDF to the client (do not send the spreadsheet)
A16: SALESPERSON | B16: P.O. # | C16: SHIP DATE | D16: SHIP VIA | E16: F.O.B. | F16: TERMS
J17: ← See the web page above for information about these fields
A19: ITEM # | B19: DESCRIPTION | E19: QTY | F19: UNIT PRICE | G19: TAX | H19: TOTAL
A20: [23423423] | B20: Product XYZ | E20: 15 | F20: 150 | G20: x | H20: =E20*F20 -> 2250 | J20: ← Place an "X" in the TAX column if the amount is Taxable
A21: [45645645] | B21: Product ABC | E21: 1 | F21: 75 | G21: x | H21: =E21*F21 -> 75
H22: =E22*F22 -> 0
H23: =E23*F23 -> 0
H24: =E24*F24 -> 0
H25: =E25*F25 -> 0
H26: =E26*F26 -> 0
H27: =E27*F27 -> 0
H28: =E28*F28 -> 0
H29: =E29*F29 -> 0
H30: =E30*F30 -> 0
H31: =E31*F31 -> 0
H32: =E32*F32 -> 0
H33: =E33*F33 -> 0
H34: =E34*F34 -> 0
E35: [42] | F35: SUBTOTAL | H35: =SUM(H20:H34) -> 2325
A36: Other Comments or Special Instructions | F36: TAXABLE | H36: =SUMIF(G20:G34,"=x",H20:H34) -> 2325 | J36: ← This sums amounts with an "X" in the Tax column
A37: 1. Total payment due in 30 days | F37: TAX RATE | H37: 0.06875 | J37: ← Enter the Tax Rate, if applicable
A38: 2. Please include the invoice number on your check | F38: TAX | H38: =H37*H36 -> 159.84375
F39: S & H | H39: 0
F40: OTHER | H40: 0 | J40: ← You could change the label "Other" to "Shipping" or "Discount"
F41: TOTAL | H41: =H35+H38+H40+H39 -> 2484.8438 | J41: ← You can change the currency by editing the cell format
H42: =IF($H$1="Receipt","Paid in full. Thank you!","") | J42: ← The note "Paid in full. Thank you!" will show up here if you change cell H1 to RECEIPT
F43: =IF($H$1="invoice","Make all checks payable to","") -> Make all checks payable to | J43: ← These next two lines will be "" when H1 is changed to RECEIPT
...

Sheet InvoiceWithPriceList
A1: [Company Name] | H1: INVOICE
A2: [Street Address] | G2: DATE | H2: 45758 | J2: © 2011-2025 Vertex42 LLC
A3: [City, ST ZIP] | G3: INVOICE # | H3: [123456] | J3: Sales Invoice Template
A4: Phone: [000-000-0000] | G4: CUSTOMER ID | H4: [123]
A5: Fax: [000-000-0000] | J5: SALES INVOICE WITH PRICE LIST
A6: Website: | J6: This version of the sales invoice lets you
J7: select items from a drop-down list.
A9: BILL TO: | D9: SHIP TO: | J9: Define the list of products using the PriceList worksheet.
A10: [Name] | D10: [Name] | J10: The Item# and the Unit Price will be included automatically
A11: [Company Name] | D11: [Company Name] | J11: based on the information in the PriceList worksheet.
A12: [Street Address] | D12: [Street Address]
A13: [City, ST ZIP] | D13: [City, ST ZIP] | J13: HOW TO SEND AN INVOICE
A14: [Phone] | D14: [Phone] | J14: 1) Save or Print the worksheet as a PDF
J15: 2) Email the PDF to the client (do not send the spreadsheet)
A16: SALESPERSON | B16: P.O. # | C16: SHIP DATE | D16: SHIP VIA | E16: F.O.B. | F16: TERMS
J17: ← See the web page above for information about these fields
A19: ITEM # | B19: DESCRIPTION | E19: QTY | F19: UNIT PRICE | G19: TAX | H19: TOTAL
A20: =IF(ISERROR(MATCH(B20,PriceList!A:A,0)),"",INDEX(PriceList!B:B,MATCH(B20,PriceList!A:A,0))) -> PC1221 | B20: XYZ Base Product | E20: 15 | F20: =IF(ISERROR(MATCH(B20,PriceList!A:A,0)),0,INDEX(PriceList!C:C,MATCH(B20,PriceList!A:A,0))) -> 1234 | G20: x | H20: =E20*F20 -> 18510 | J20: ← Place an "X" in the TAX column if the amount is Taxable
A21: =IF(ISERROR(MATCH(B21,PriceList!A:A,0)),"",INDEX(PriceList!B:B,MATCH(B21,PriceList!A:A,0))) -> PC1221abc | B21: options: ABC | E21: 1 | F21: =IF(ISERROR(MATCH(B21,PriceList!A:A,0)),0,INDEX(PriceList!C:C,MATCH(B21,PriceList!A:A,0))) -> 123 | G21: x | H21: =E21*F21 -> 123
A22: =IF(ISERROR(MATCH(B22,PriceList!A:A,0)),"",INDEX(PriceList!B:B,MATCH(B22,PriceList!A:A,0))) -> PC1221def | B22: options: DEF | E22: 1 | F22: =IF(ISERROR(MATCH(B22,PriceList!A:A,0)),0,INDEX(PriceList!C:C,MATCH(B22,PriceList!A:A,0))) -> 87 | G22: x | H22: =E22*F22 -> 87
A23: =IF(ISERROR(MATCH(B23,PriceList!A:A,0)),"",INDEX(PriceList!B:B,MATCH(B23,PriceList!A:A,0))) -> PC1221gh | B23: options: GH | E23: 1 | F23: =IF(ISERROR(MATCH(B23,PriceList!A:A,0)),0,INDEX(PriceList!C:C,MATCH(B23,PriceList!A:A,0))) -> 467 | G23: x | H23: =E23*F23 -> 467
A24: =IF(ISERROR(MATCH(B24,PriceList!A:A,0)),"",INDEX(PriceList!B:B,MATCH(B24,PriceList!A:A,0))) | F24: =IF(ISERROR(MATCH(B24,PriceList!A:A,0)),0,INDEX(PriceList!C:C,MATCH(B24,PriceList!A:A,0))) -> 0 | H24: =E24*F24 -> 0
A25: =IF(ISERROR(MATCH(B25,PriceList!A:A,0)),"",INDEX(PriceList!B:B,MATCH(B25,PriceList!A:A,0))) | F25: =IF(ISERROR(MATCH(B25,PriceList!A:A,0)),0,INDEX(PriceList!C:C,MATCH(B25,PriceList!A:A,0))) -> 0 | H25: =E25*F25 -> 0
A26: =IF(ISERROR(MATCH(B26,PriceList!A:A,0)),"",INDEX(PriceList!B:B,MATCH(B26,PriceList!A:A,0))) | F26: =IF(ISERROR(MATCH(B26,PriceList!A:A,0)),0,INDEX(PriceList!C:C,MATCH(B26,PriceList!A:A,0))) -> 0 | H26: =E26*F26 -> 0
A27: =IF(ISERROR(MATCH(B27,PriceList!A:A,0)),"",INDEX(PriceList!B:B,MATCH(B27,PriceList!A:A,0))) | F27: =IF(ISERROR(MATCH(B27,PriceList!A:A,0)),0,INDEX(PriceList!C:C,MATCH(B27,PriceList!A:A,0))) -> 0 | H27: =E27*F27 -> 0
A28: =IF(ISERROR(MATCH(B28,PriceList!A:A,0)),"",INDEX(PriceList!B:B,MATCH(B28,PriceList!A:A,0))) | F28: =IF(ISERROR(MATCH(B28,PriceList!A:A,0)),0,INDEX(PriceList!C:C,MATCH(B28,PriceList!A:A,0))) -> 0 | H28: =E28*F28 -> 0
A29: =IF(ISERROR(MATCH(B29,PriceList!A:A,0)),"",INDEX(PriceList!B:B,MATCH(B29,PriceList!A:A,0))) | F29: =IF(ISERROR(MATCH(B29,PriceList!A:A,0)),0,INDEX(PriceList!C:C,MATCH(B29,PriceList!A:A,0))) -> 0 | H29: =E29*F29 -> 0
A30: =IF(ISERROR(MATCH(B30,PriceList!A:A,0)),"",INDEX(PriceList!B:B,MATCH(B30,PriceList!A:A,0))) | F30: =IF(ISERROR(MATCH(B30,PriceList!A:A,0)),0,INDEX(PriceList!C:C,MATCH(B30,PriceList!A:A,0))) -> 0 | H30: =E30*F30 -> 0
A31: =IF(ISERROR(MATCH(B31,PriceList!A:A,0)),"",INDEX(PriceList!B:B,MATCH(B31,PriceList!A:A,0))) | F31: =IF(ISERROR(MATCH(B31,PriceList!A:A,0)),0,INDEX(PriceList!C:C,MATCH(B31,PriceList!A:A,0))) -> 0 | H31: =E31*F31 -> 0
A32: =IF(ISERROR(MATCH(B32,PriceList!A:A,0)),"",INDEX(PriceList!B:B,MATCH(B32,PriceList!A:A,0))) | F32: =IF(ISERROR(MATCH(B32,PriceList!A:A,0)),0,INDEX(PriceList!C:C,MATCH(B32,PriceList!A:A,0))) -> 0 | H32: =E32*F32 -> 0
A33: =IF(ISERROR(MATCH(B33,PriceList!A:A,0)),"",INDEX(PriceList!B:B,MATCH(B33,PriceList!A:A,0))) | F33: =IF(ISERROR(MATCH(B33,PriceList!A:A,0)),0,INDEX(PriceList!C:C,MATCH(B33,PriceList!A:A,0))) -> 0 | H33: =E33*F33 -> 0
A34: =IF(ISERROR(MATCH(B34,PriceList!A:A,0)),"",INDEX(PriceList!B:B,MATCH(B34,PriceList!A:A,0))) | F34: =IF(ISERROR(MATCH(B34,PriceList!A:A,0)),0,INDEX(PriceList!C:C,MATCH(B34,PriceList!A:A,0))) -> 0 | H34: =E34*F34 -> 0
E35: [42] | F35: SUBTOTAL | H35: =SUM(H20:H34) -> 19187
A36: Other Comments or Special Instructions | F36: TAXABLE | H36: =SUMIF(G20:G34,"=x",H20:H34) -> 19187 | J36: ← This sums amounts with an "X" in the Tax column
A37: 1. Total payment due in 30 days | F37: TAX RATE | H37: 0.06875 | J37: ← Enter the Tax Rate, if applicable
A38: 2. Please include the invoice number on your check | F38: TAX | H38: =H37*H36 -> 1319.1063
F39: S & H | H39: 0
F40: OTHER | H40: 0 | J40: ← You could change the label "Other" to "Shipping" or "Discount"
F41: TOTAL | H41: =H35+H38+H40+H39 -> 20506.106 | J41: ← You can change the currency by editing the cell format
H42: =IF($H$1="Receipt","Paid in full. Thank you!","") | J42: ← The note "Paid in full. Thank you!" will show up here if you change cell H1 to RECEIPT
...

Sheet PriceList
A1: ITEM DESCRIPTION | B1: ITEM # | C1: UNIT PRICE | E1: PRICE LIST
A3: XYZ Base Product | B3: PC1221 | C3: 1234 | E3: The drop-down list in the Invoice1b and Invoice2b
A4: options: ABC | B4: PC1221abc | C4: 123 | E4: worksheets is based on the list of items in column A
A5: options: DEF | B5: PC1221def | C5: 87 | E5: of this worksheet. The Item # and Unit Price in the
A6: options: GH | B6: PC1221gh | C6: 467 | E6: invoice are selected by matching the Item Description.
E7: So, make sure that your Item Descriptions are all
E8: unique. The cell formatting in this worksheet does
E9: not affect anything, so you can use formatting to
E10: help you help organize your products.

Sheet ©
B1: Sales Invoice Template
B3: By Vertex42.com
B4: https://www.vertex42.com/ExcelTemplates/sales-invoice-template.html
B6: © 2011-2025 Vertex42 LLC
B8: This spreadsheet, including all worksheets and associated content is a copyrighted work under the United States and other copyright laws.
B10: Do not submit copies or modifications of this template to any website or online template gallery.
B12: Please review the following license agreement to learn how you may or may not use this template. Thank you.
B14: License Agreement
B15: https://www.vertex42.com/licensing/EULA_privateuse.html
B17: Do not delete this worksheet
